BEGIN:VCALENDAR
VERSION:2.0
PRODID:
BEGIN:VEVENT
UID:038574ob
DTSTAMP:20260425T024402Z
DTSTART:20261119T140000Z
DTEND:20261120T174000Z
LOCATION: Golden Nugget Biloxi (Biloxi\, 39530)
SUMMARY: 2026 Winter Cluster
DESCRIPTION:  \n  
CLASS:PUBLIC
END:VEVENT
END:VCALENDAR
