BEGIN:VCALENDAR
VERSION:2.0
PRODID:
BEGIN:VEVENT
UID:038492ob
DTSTAMP:20260424T001224Z
DTSTART:20261027T130000Z
DTEND:20261027T212000Z
LOCATION: Crowne Plaza Baton Rouge (Baton Rouge\, 70808)
SUMMARY: 2026 State & Local Tax Conference
DESCRIPTION: 
CLASS:PUBLIC
END:VEVENT
END:VCALENDAR
