BEGIN:VCALENDAR
VERSION:2.0
PRODID:
BEGIN:VEVENT
UID:036628mb
DTSTAMP:20260422T083957Z
DTSTART:20260527T163000Z
DTEND:20260527T172700Z
SUMMARY: Consulting Services Secrets
DESCRIPTION: Award winning discussion leader Mark Hugh discusses how to create and capture value with consulting services. Whether you want to consult a little or full time\, this valuable course reviews identifying a specialty\, growing a practice\, capturing value\, creating deliverables\, and effective marketplace marketing strategies.  \n  
Speaker - Mark Hugh
CLASS:PUBLIC
END:VEVENT
END:VCALENDAR
