BEGIN:VCALENDAR
VERSION:2.0
PRODID:
BEGIN:VEVENT
UID:036580mb
DTSTAMP:20260422T052544Z
DTSTART:20260629T200000Z
DTEND:20260629T214900Z
SUMMARY: Businesses Receiving Government Assistance
DESCRIPTION: Many for-profit entities receive government assistance or are required to have financial statement or compliance audits due to law or regulation. This course will discuss the requirements under Generally Accepted Auditing Standards relevant to for-profit entity audits\n 
Speaker - Jennifer Louis
CLASS:PUBLIC
END:VEVENT
END:VCALENDAR
