BEGIN:VCALENDAR
VERSION:2.0
PRODID:
BEGIN:VEVENT
UID:035208mb
DTSTAMP:20260422T052630Z
DTSTART:20260626T170000Z
DTEND:20260626T180000Z
SUMMARY: Controller Series: Technology - Must Have Excel Competencies
DESCRIPTION: Excel has long been included in the accountant's toolbox. Even though Microsoft Power BI and other big data tools such as Qlik and Tableau are becoming more important\, Excel is still a "must have" tool. We cover what the accountants of today should know about Excel to improve their efficiency\, access data\, and gain insights into the company\, industry\, and economy.
CLASS:PUBLIC
END:VEVENT
END:VCALENDAR
