BEGIN:VCALENDAR
VERSION:2.0
PRODID:
BEGIN:VEVENT
UID:028321mb
DTSTAMP:20260420T204144Z
DTSTART:20260422T163000Z
DTEND:20260422T183000Z
SUMMARY: 2025 Governmental GAAP Update: Navigating GASB Standards
DESCRIPTION: This course begins with a look at the GASB standards effective this year\, including GASB 100\, Accounting Changes and Error Corrections and GASB 101\, Compensated Absences. We'll include practical application of the topics in the form of case studies.


This event may be a rebroadcast of a live event and the instructor will be available to answer your questions during the event.Speaker - Melisa F. Galasso\, CPA
CLASS:PUBLIC
END:VEVENT
END:VCALENDAR
